BEGIN:VCALENDAR
VERSION:2.0
PRODID:-//wp-events-plugin.com//7.2.3.1//EN
TZID:America/New_York
X-WR-TIMEZONE:America/New_York
BEGIN:VEVENT
UID:531@pbslds.org
DTSTART;TZID=America/New_York:20230401T073000
DTEND;TZID=America/New_York:20230401T180000
DTSTAMP:20230227T022948Z
URL:https://pbslds.org/events/eastern-region-pre-conclave-meeting-registra
 tion-required-150/
SUMMARY:Eastern Region Pre-Conclave Meeting (Registration Required - $150)
DESCRIPTION:Click the image for agenda and registration info\n&nbsp\;\n\n
CATEGORIES:PBS Eastern Region Events
LOCATION:Richmond Marriott\, 500 E Broad Street\, Richmond\, VA\, 23219\, U
 nited States
GEO:37.543155;-77.436558
X-APPLE-STRUCTURED-LOCATION;VALUE=URI;X-ADDRESS=500 E Broad Street\, Richmo
 nd\, VA\, 23219\, United States;X-APPLE-RADIUS=100;X-TITLE=Richmond Marrio
 tt:geo:37.543155,-77.436558
END:VEVENT
BEGIN:VTIMEZONE
TZID:America/New_York
X-LIC-LOCATION:America/New_York
BEGIN:DAYLIGHT
DTSTART:20230312T030000
TZOFFSETFROM:-0500
TZOFFSETTO:-0400
TZNAME:EDT
END:DAYLIGHT
END:VTIMEZONE
END:VCALENDAR