BEGIN:VCALENDAR
VERSION:2.0
PRODID:-//wp-events-plugin.com//7.2.3.1//EN
TZID:America/New_York
X-WR-TIMEZONE:America/New_York
BEGIN:VEVENT
UID:473@pbslds.org
DTSTART;TZID=America/New_York:20220625T090000
DTEND;TZID=America/New_York:20220625T160000
DTSTAMP:20220614T145651Z
URL:https://pbslds.org/events/eastern-region-board-meeting/
SUMMARY:Eastern Region Board Meeting
DESCRIPTION:Check your email for Registration Info\n
CATEGORIES:Delaware Events,PBS Eastern Region Events
LOCATION:Hilton - Newark Airport\, 1170 Spring Street\, Elizabeth\, NJ\, 07
 201\, United States
X-APPLE-STRUCTURED-LOCATION;VALUE=URI;X-ADDRESS=1170 Spring Street\, Elizab
 eth\, NJ\, 07201\, United States;X-APPLE-RADIUS=100;X-TITLE=Hilton - Newar
 k Airport:geo:0,0
END:VEVENT
BEGIN:VTIMEZONE
TZID:America/New_York
X-LIC-LOCATION:America/New_York
BEGIN:DAYLIGHT
DTSTART:20220313T030000
TZOFFSETFROM:-0500
TZOFFSETTO:-0400
TZNAME:EDT
END:DAYLIGHT
END:VTIMEZONE
END:VCALENDAR