BEGIN:VCALENDAR
VERSION:2.0
PRODID:-//wp-events-plugin.com//7.2.3.1//EN
TZID:America/New_York
X-WR-TIMEZONE:America/New_York
BEGIN:VEVENT
UID:812@pbslds.org
DTSTART;TZID=America/New_York:20251011T080000
DTEND;TZID=America/New_York:20251011T170000
DTSTAMP:20250925T194309Z
URL:https://pbslds.org/events/eastern-region-area-meeting-ii/
SUMMARY:Eastern Region Area Meeting II
DESCRIPTION:
CATEGORIES:LDS Events,PBS Eastern Region Events
LOCATION:West Chester University\, 700 S. High Street\, West Chester \, PA\
 , 19393\, United States
GEO:39.95332;-75.598368
X-APPLE-STRUCTURED-LOCATION;VALUE=URI;X-ADDRESS=700 S. High Street\, West C
 hester \, PA\, 19393\, United States;X-APPLE-RADIUS=100;X-TITLE=West Chest
 er University:geo:39.95332,-75.598368
END:VEVENT
BEGIN:VTIMEZONE
TZID:America/New_York
X-LIC-LOCATION:America/New_York
BEGIN:DAYLIGHT
DTSTART:20250309T030000
TZOFFSETFROM:-0500
TZOFFSETTO:-0400
TZNAME:EDT
END:DAYLIGHT
END:VTIMEZONE
END:VCALENDAR