BEGIN:VCALENDAR
VERSION:2.0
PRODID:-//wp-events-plugin.com//7.2.3.1//EN
TZID:America/New_York
X-WR-TIMEZONE:America/New_York
BEGIN:VEVENT
UID:612@pbslds.org
DTSTART;TZID=America/New_York:20230930T140000
DTEND;TZID=America/New_York:20230930T180000
DTSTAMP:20230827T000612Z
URL:https://pbslds.org/events/denim-white-day-party-zeta-tzz/
SUMMARY:Denim & White Day Party (Zeta - TZZ)
DESCRIPTION:Click the image for tickets.\n
CATEGORIES:Delaware Events,Visiting Zeta Chapter Events
LOCATION:Most Worshipful Grand Prince Hall Grand Lodge\, 1412 College Road\
 , Dover\, DE\, United States
X-APPLE-STRUCTURED-LOCATION;VALUE=URI;X-ADDRESS=1412 College Road\, Dover\,
  DE\, United States;X-APPLE-RADIUS=100;X-TITLE=Most Worshipful Grand Princ
 e Hall Grand Lodge:geo:0,0
END:VEVENT
BEGIN:VTIMEZONE
TZID:America/New_York
X-LIC-LOCATION:America/New_York
BEGIN:DAYLIGHT
DTSTART:20230312T030000
TZOFFSETFROM:-0500
TZOFFSETTO:-0400
TZNAME:EDT
END:DAYLIGHT
END:VTIMEZONE
END:VCALENDAR