BEGIN:VCALENDAR
VERSION:2.0
PRODID:-//wp-events-plugin.com//7.2.3.1//EN
TZID:America/New_York
X-WR-TIMEZONE:America/New_York
BEGIN:VEVENT
UID:497@pbslds.org
DTSTART;TZID=America/New_York:20221112T190000
DTEND;TZID=America/New_York:20221112T220000
DTSTAMP:20221003T163143Z
URL:https://pbslds.org/events/delta-sigma-sigma-chapter-bowling-extravagan
 za/
SUMMARY:Delta Sigma Sigma Chapter Bowling Extravaganza
DESCRIPTION:Saturday\, November 12th\n\nSproul Lanes- Springfield\, PA\n\n7
 pm - 10pm\n\nCLICK CHAPTER LOGO TO PURCHASE TICKETS ($28)\n\n
CATEGORIES:Events,PBS Eastern Region Events
LOCATION:Sproul Lanes\, 745 West Sproul Road\, Springfield\, PA\, 19064\, U
 nited States
X-APPLE-STRUCTURED-LOCATION;VALUE=URI;X-ADDRESS=745 West Sproul Road\, Spri
 ngfield\, PA\, 19064\, United States;X-APPLE-RADIUS=100;X-TITLE=Sproul Lan
 es:geo:0,0
END:VEVENT
BEGIN:VTIMEZONE
TZID:America/New_York
X-LIC-LOCATION:America/New_York
BEGIN:STANDARD
DTSTART:20221106T010000
TZOFFSETFROM:-0400
TZOFFSETTO:-0500
TZNAME:EST
END:STANDARD
END:VTIMEZONE
END:VCALENDAR