BEGIN:VCALENDAR
VERSION:2.0
PRODID:-//wp-events-plugin.com//7.2.3.1//EN
TZID:America/New_York
X-WR-TIMEZONE:America/New_York
BEGIN:VEVENT
UID:468@pbslds.org
DTSTART;TZID=America/New_York:20220618T080000
DTEND;TZID=America/New_York:20220618T103000
DTSTAMP:20220601T195406Z
URL:https://pbslds.org/events/delta-r-e-d-run/
SUMMARY:Delta R.E.D. Run
DESCRIPTION:
CATEGORIES:NPHC Events
LOCATION:Hare Pavilion (Riverfront)\, 815 Justison St\, Wilmington\, DE\, 1
 9801\, United States
X-APPLE-STRUCTURED-LOCATION;VALUE=URI;X-ADDRESS=815 Justison St\, Wilmingto
 n\, DE\, 19801\, United States;X-APPLE-RADIUS=100;X-TITLE=Hare Pavilion (R
 iverfront):geo:0,0
END:VEVENT
BEGIN:VTIMEZONE
TZID:America/New_York
X-LIC-LOCATION:America/New_York
BEGIN:DAYLIGHT
DTSTART:20220313T030000
TZOFFSETFROM:-0500
TZOFFSETTO:-0400
TZNAME:EDT
END:DAYLIGHT
END:VTIMEZONE
END:VCALENDAR