BEGIN:VCALENDAR
VERSION:2.0
PRODID:-//wp-events-plugin.com//7.2.3.1//EN
TZID:America/New_York
X-WR-TIMEZONE:America/New_York
BEGIN:VEVENT
UID:670@pbslds.org
DTSTART;TZID=America/New_York:20240615T073000
DTEND;TZID=America/New_York:20240615T100000
DTSTAMP:20240510T155047Z
URL:https://pbslds.org/events/delta-r-e-d-run-2/
SUMMARY:Delta R.E.D. Run
DESCRIPTION:
CATEGORIES:NPHC Events
LOCATION:Wilmington Riverfront\, 815 Justison St\, Wilmington\, DE\, 19805\
 , United States
GEO:39.731529;-75.563236
X-APPLE-STRUCTURED-LOCATION;VALUE=URI;X-ADDRESS=815 Justison St\, Wilmingto
 n\, DE\, 19805\, United States;X-APPLE-RADIUS=100;X-TITLE=Wilmington River
 front:geo:39.731529,-75.563236
END:VEVENT
BEGIN:VTIMEZONE
TZID:America/New_York
X-LIC-LOCATION:America/New_York
BEGIN:DAYLIGHT
DTSTART:20240310T030000
TZOFFSETFROM:-0500
TZOFFSETTO:-0400
TZNAME:EDT
END:DAYLIGHT
END:VTIMEZONE
END:VCALENDAR