BEGIN:VCALENDAR
VERSION:2.0
PRODID:-//wp-events-plugin.com//7.2.3.1//EN
TZID:America/New_York
X-WR-TIMEZONE:America/New_York
BEGIN:VEVENT
UID:625@pbslds.org
DTSTART;TZID=America/New_York:20231107T180000
DTEND;TZID=America/New_York:20231107T183000
DTSTAMP:20231023T121109Z
URL:https://pbslds.org/events/delaware-zetas-state-prayer-call/
SUMMARY:Delaware Zetas State Prayer Call
DESCRIPTION:This month\, our VP (Brother David Clayton) will be sharing in 
 the call. Please plan to come on to the Zoom.\n\nMeeting Id: 850 1908 1977
 \n\nPasscode: 377189\n\n
CATEGORIES:Delaware Events,Visiting Zeta Chapter Events
END:VEVENT
BEGIN:VTIMEZONE
TZID:America/New_York
X-LIC-LOCATION:America/New_York
BEGIN:STANDARD
DTSTART:20231105T010000
TZOFFSETFROM:-0400
TZOFFSETTO:-0500
TZNAME:EST
END:STANDARD
END:VTIMEZONE
END:VCALENDAR