BEGIN:VCALENDAR
VERSION:2.0
PRODID:-//wp-events-plugin.com//7.2.3.1//EN
TZID:America/New_York
X-WR-TIMEZONE:America/New_York
BEGIN:VEVENT
UID:502@pbslds.org
DTSTART;TZID=America/New_York:20221203T090000
DTEND;TZID=America/New_York:20221203T140000
DTSTAMP:20221114T193415Z
URL:https://pbslds.org/events/delaware-state-board-meeting-open-to-all-sig
 mas/
SUMMARY:Delaware State Board Meeting (Open to All Sigmas)
DESCRIPTION:\n\n\n\n\n\n\n\n\nSign-ups are open for the State of Delaware B
 oard Meeting. The meeting\, scheduled to take place on Saturday\, December
  3\, will be at Goldey-Beacom College\, beginning at 9am. After the meeti
 ng\, there will be activities for Brothers to partake in on campus\, inclu
 ding the scheduled Men's Basketball Game (GBC vs. Holy Family).\nIn-person
  registration is required for State Board Members\, but all brothers in th
 e State of Delaware are welcome to attend in the method of your choice. To
  register today\, click here\, or see the image below.\n​\nFor additio
 nal information\, email us.\n\n\n\n\n
ATTACH;FMTTYPE=image/jpeg:https://pbslds.org/wp-content/uploads/2022/11/DE
 _BoardMeeting-1.png
CATEGORIES:Delaware Events
LOCATION:Goldey-Beacom College\, 4701 Limestone Road\, Wilmington\, DE\, 19
 808\, United States
X-APPLE-STRUCTURED-LOCATION;VALUE=URI;X-ADDRESS=4701 Limestone Road\, Wilmi
 ngton\, DE\, 19808\, United States;X-APPLE-RADIUS=100;X-TITLE=Goldey-Beaco
 m College:geo:0,0
END:VEVENT
BEGIN:VTIMEZONE
TZID:America/New_York
X-LIC-LOCATION:America/New_York
BEGIN:STANDARD
DTSTART:20221106T010000
TZOFFSETFROM:-0400
TZOFFSETTO:-0500
TZNAME:EST
END:STANDARD
END:VTIMEZONE
END:VCALENDAR