BEGIN:VCALENDAR
VERSION:2.0
PRODID:-//wp-events-plugin.com//7.2.3.1//EN
TZID:America/New_York
X-WR-TIMEZONE:America/New_York
BEGIN:VEVENT
UID:477@pbslds.org
DTSTART;TZID=America/New_York:20220806T190000
DTEND;TZID=America/New_York:20220806T220000
DTSTAMP:20220706T190917Z
URL:https://pbslds.org/events/delaware-loves-jazz-zeta-epz-fundraiser/
SUMMARY:Delaware Loves Jazz (Zeta - EPZ Fundraiser)
DESCRIPTION:Click the Flyer for Tickets (Eventbrite)\n\n
CATEGORIES:EPZ Events
LOCATION:P. S. DuPont Middle School\, 701 West 34th Street\, Wilmington\, D
 E\, 19802\, United States
X-APPLE-STRUCTURED-LOCATION;VALUE=URI;X-ADDRESS=701 West 34th Street\, Wilm
 ington\, DE\, 19802\, United States;X-APPLE-RADIUS=100;X-TITLE=P. S. DuPon
 t Middle School:geo:0,0
END:VEVENT
BEGIN:VTIMEZONE
TZID:America/New_York
X-LIC-LOCATION:America/New_York
BEGIN:DAYLIGHT
DTSTART:20220313T030000
TZOFFSETFROM:-0500
TZOFFSETTO:-0400
TZNAME:EDT
END:DAYLIGHT
END:VTIMEZONE
END:VCALENDAR