BEGIN:VCALENDAR
VERSION:2.0
PRODID:-//wp-events-plugin.com//7.2.3.1//EN
TZID:America/New_York
X-WR-TIMEZONE:America/New_York
BEGIN:VEVENT
UID:528@pbslds.org
DTSTART;TZID=America/New_York:20230415T180000
DTEND;TZID=America/New_York:20230415T220000
DTSTAMP:20230116T140249Z
URL:https://pbslds.org/events/delaware-afro-american-sports-hall-of-fame-i
 nduction-banquet/
SUMMARY:Delaware Afro-American Sports Hall of Fame Induction Banquet
DESCRIPTION:Organization President: Brother Mark Sills\n2023 Inductee: Brot
 her Darin Park\n
CATEGORIES:Delaware Events
LOCATION:Modern Maturity Center\, 1121 Forrest Avenue\, Dover\, DE\, 19904\
 , United States
X-APPLE-STRUCTURED-LOCATION;VALUE=URI;X-ADDRESS=1121 Forrest Avenue\, Dover
 \, DE\, 19904\, United States;X-APPLE-RADIUS=100;X-TITLE=Modern Maturity C
 enter:geo:0,0
END:VEVENT
BEGIN:VTIMEZONE
TZID:America/New_York
X-LIC-LOCATION:America/New_York
BEGIN:DAYLIGHT
DTSTART:20230312T030000
TZOFFSETFROM:-0500
TZOFFSETTO:-0400
TZNAME:EDT
END:DAYLIGHT
END:VTIMEZONE
END:VCALENDAR