BEGIN:VCALENDAR
VERSION:2.0
PRODID:-//wp-events-plugin.com//7.2.3.1//EN
TZID:America/New_York
X-WR-TIMEZONE:America/New_York
BEGIN:VEVENT
UID:677@pbslds.org
DTSTART;TZID=America/New_York:20240120T090000
DTEND;TZID=America/New_York:20240120T130000
DTSTAMP:20231230T230830Z
URL:https://pbslds.org/events/curtis-word-celebration-of-life-omega-ceremo
 ny/
SUMMARY:Curtis Word Celebration of Life (Omega Ceremony)
DESCRIPTION:
CATEGORIES:PBS Eastern Region Events,Visiting Sigma Chapter Events
LOCATION:First Nazarene Baptist Church\, 1500 S 8th Street\, Camden\, NJ\, 
 08104\, United States
GEO:39.92664;-75.111768
X-APPLE-STRUCTURED-LOCATION;VALUE=URI;X-ADDRESS=1500 S 8th Street\, Camden\
 , NJ\, 08104\, United States;X-APPLE-RADIUS=100;X-TITLE=First Nazarene Bap
 tist Church:geo:39.92664,-75.111768
END:VEVENT
BEGIN:VTIMEZONE
TZID:America/New_York
X-LIC-LOCATION:America/New_York
BEGIN:STANDARD
DTSTART:20231105T010000
TZOFFSETFROM:-0400
TZOFFSETTO:-0500
TZNAME:EST
END:STANDARD
END:VTIMEZONE
END:VCALENDAR