BEGIN:VCALENDAR
VERSION:2.0
PRODID:-//wp-events-plugin.com//7.2.3.1//EN
TZID:America/New_York
X-WR-TIMEZONE:America/New_York
BEGIN:VEVENT
UID:816@pbslds.org
DTSTART;TZID=America/New_York:20260124T190000
DTEND;TZID=America/New_York:20260124T230000
DTSTAMP:20251211T162612Z
URL:https://pbslds.org/events/corinthian-consistory-no-5-bowling-event/
SUMMARY:Corinthian Consistory No. 5 Bowling Event
DESCRIPTION:
CATEGORIES:LDS Events
LOCATION:Pleasant Hill Lanes\, 1001 W. Newport Pike\, Wilmington\, DE\, 198
 04\, United States
GEO:39.715311;-75.620003
X-APPLE-STRUCTURED-LOCATION;VALUE=URI;X-ADDRESS=1001 W. Newport Pike\, Wilm
 ington\, DE\, 19804\, United States;X-APPLE-RADIUS=100;X-TITLE=Pleasant Hi
 ll Lanes:geo:39.715311,-75.620003
END:VEVENT
BEGIN:VTIMEZONE
TZID:America/New_York
X-LIC-LOCATION:America/New_York
BEGIN:STANDARD
DTSTART:20251102T010000
TZOFFSETFROM:-0400
TZOFFSETTO:-0500
TZNAME:EST
END:STANDARD
END:VTIMEZONE
END:VCALENDAR