BEGIN:VCALENDAR
VERSION:2.0
PRODID:-//wp-events-plugin.com//7.2.3.1//EN
TZID:America/New_York
X-WR-TIMEZONE:America/New_York
BEGIN:VEVENT
UID:631@pbslds.org
DTSTART;TZID=America/New_York:20231216T080000
DTEND;TZID=America/New_York:20231216T130000
DTSTAMP:20231113T163254Z
URL:https://pbslds.org/events/cookies-with-santa-2023/
SUMMARY:Cookies With Santa 2023
DESCRIPTION:A Collaborative Effort of the LDS Chapter\, EPZ Chapter\, Sigma
  Cares Foundation\, and Zeta Community Action Network\n\n8am Setup Time\n\
 nMore info to come\n\n&nbsp\;
CATEGORIES:EPZ Events,LDS Events
LOCATION:Wilmington PAL\, 3707 North Market Street\, Wilmington \, DE\, 198
 02\, United States
X-APPLE-STRUCTURED-LOCATION;VALUE=URI;X-ADDRESS=3707 North Market Street\, 
 Wilmington \, DE\, 19802\, United States;X-APPLE-RADIUS=100;X-TITLE=Wilmin
 gton PAL:geo:0,0
END:VEVENT
BEGIN:VTIMEZONE
TZID:America/New_York
X-LIC-LOCATION:America/New_York
BEGIN:STANDARD
DTSTART:20231105T010000
TZOFFSETFROM:-0400
TZOFFSETTO:-0500
TZNAME:EST
END:STANDARD
END:VTIMEZONE
END:VCALENDAR