BEGIN:VCALENDAR
VERSION:2.0
PRODID:-//wp-events-plugin.com//7.2.3.1//EN
TZID:America/New_York
X-WR-TIMEZONE:America/New_York
BEGIN:VEVENT
UID:616@pbslds.org
DTSTART;TZID=America/New_York:20231014T110000
DTEND;TZID=America/New_York:20231014T140000
DTSTAMP:20230929T105407Z
URL:https://pbslds.org/events/community-wellness-fair-zeta-gapz/
SUMMARY:Community Wellness Fair (Zeta - GAPZ)
DESCRIPTION:
CATEGORIES:GAPZ Events
LOCATION:Middletown High School\, 120 Silver Lake Road\, Middletown\, DE\, 
 19709\, United States
X-APPLE-STRUCTURED-LOCATION;VALUE=URI;X-ADDRESS=120 Silver Lake Road\, Midd
 letown\, DE\, 19709\, United States;X-APPLE-RADIUS=100;X-TITLE=Middletown 
 High School:geo:0,0
END:VEVENT
BEGIN:VTIMEZONE
TZID:America/New_York
X-LIC-LOCATION:America/New_York
BEGIN:DAYLIGHT
DTSTART:20230312T030000
TZOFFSETFROM:-0500
TZOFFSETTO:-0400
TZNAME:EDT
END:DAYLIGHT
END:VTIMEZONE
END:VCALENDAR