BEGIN:VCALENDAR
VERSION:2.0
PRODID:-//wp-events-plugin.com//7.2.3.1//EN
TZID:America/New_York
X-WR-TIMEZONE:America/New_York
BEGIN:VEVENT
UID:486@pbslds.org
DTSTART;TZID=America/New_York:20220901T150000
DTEND;TZID=America/New_York:20220901T170000
DTSTAMP:20220829T000836Z
URL:https://pbslds.org/events/community-service-at-keene-elementary/
SUMMARY:Community Service at Keene Elementary
DESCRIPTION:Brothers\, we are putting together a group to support the stude
 nts at Keene by helping to stuff donated book bags\, assist with last-minu
 te donations\, and hand out school supplies. Please reach out to Bro. Dr. 
 Dixon or Brother Uthman-Olukokun with any questions.
CATEGORIES:Delaware Events,LDS Events
LOCATION:Keene Elementary School\, 200 Cpl/1 Stephen J. Ballard Way\, Newar
 k\, DE\, 19702\, United States
X-APPLE-STRUCTURED-LOCATION;VALUE=URI;X-ADDRESS=200 Cpl/1 Stephen J. Ballar
 d Way\, Newark\, DE\, 19702\, United States;X-APPLE-RADIUS=100;X-TITLE=Kee
 ne Elementary School:geo:0,0
END:VEVENT
BEGIN:VTIMEZONE
TZID:America/New_York
X-LIC-LOCATION:America/New_York
BEGIN:DAYLIGHT
DTSTART:20220313T030000
TZOFFSETFROM:-0500
TZOFFSETTO:-0400
TZNAME:EDT
END:DAYLIGHT
END:VTIMEZONE
END:VCALENDAR