BEGIN:VCALENDAR
VERSION:2.0
PRODID:-//wp-events-plugin.com//7.2.3.1//EN
TZID:America/New_York
X-WR-TIMEZONE:America/New_York
BEGIN:VEVENT
UID:683@pbslds.org
DTSTART;TZID=America/New_York:20240120T100000
DTEND;TZID=America/New_York:20240120T140000
DTSTAMP:20240119T192558Z
URL:https://pbslds.org/events/community-resource-day/
SUMMARY:Community Resource Day
DESCRIPTION:Please consider attending in support of LDS and SCF\n
CATEGORIES:LDS Events,SCF Events
LOCATION:Walmart Store\, 117 Wilton Blvd\, New Castle\, DE\, 19720\, United
  States
GEO:39.653661;-75.622082
X-APPLE-STRUCTURED-LOCATION;VALUE=URI;X-ADDRESS=117 Wilton Blvd\, New Castl
 e\, DE\, 19720\, United States;X-APPLE-RADIUS=100;X-TITLE=Walmart Store:ge
 o:39.653661,-75.622082
END:VEVENT
BEGIN:VTIMEZONE
TZID:America/New_York
X-LIC-LOCATION:America/New_York
BEGIN:STANDARD
DTSTART:20231105T010000
TZOFFSETFROM:-0400
TZOFFSETTO:-0500
TZNAME:EST
END:STANDARD
END:VTIMEZONE
END:VCALENDAR