BEGIN:VCALENDAR
VERSION:2.0
PRODID:-//wp-events-plugin.com//7.2.3.1//EN
TZID:America/New_York
X-WR-TIMEZONE:America/New_York
BEGIN:VEVENT
UID:500@pbslds.org
DTSTART;TZID=America/New_York:20221027T180000
DTEND;TZID=America/New_York:20221027T193000
DTSTAMP:20221024T111229Z
URL:https://pbslds.org/events/college-scholarship-info-night-at-william-pe
 nn-hs/
SUMMARY:College/Scholarship Info Night at William Penn HS
DESCRIPTION:BROTHERS: WEAR SOME PARA AND HELP US SUPPORT OUR LEARNERS WITH 
 SCHOLARSHIP OPPORTUNITIES!\n\n
CATEGORIES:LDS Events,SCF Events
LOCATION:William Penn High School\, 713 E Basin Rd\, New Castle\, DE\, 1972
 0\, United States
X-APPLE-STRUCTURED-LOCATION;VALUE=URI;X-ADDRESS=713 E Basin Rd\, New Castle
 \, DE\, 19720\, United States;X-APPLE-RADIUS=100;X-TITLE=William Penn High
  School:geo:0,0
END:VEVENT
BEGIN:VTIMEZONE
TZID:America/New_York
X-LIC-LOCATION:America/New_York
BEGIN:DAYLIGHT
DTSTART:20220313T030000
TZOFFSETFROM:-0500
TZOFFSETTO:-0400
TZNAME:EDT
END:DAYLIGHT
END:VTIMEZONE
END:VCALENDAR