BEGIN:VCALENDAR
VERSION:2.0
PRODID:-//wp-events-plugin.com//7.2.3.1//EN
TZID:America/New_York
X-WR-TIMEZONE:America/New_York
BEGIN:VEVENT
UID:819@pbslds.org
DTSTART;TZID=America/New_York:20260105T180000
DTEND;TZID=America/New_York:20260105T220000
DTSTAMP:20251231T221405Z
URL:https://pbslds.org/events/chick-fil-a-night-with-lds/
SUMMARY:Chick Fil A Night with LDS
DESCRIPTION:
CATEGORIES:LDS Events
LOCATION:Chick Fil A New Castle\, 4008 N. DuPont Highway\, New Castle\, DE\
 , 19720\, United States
GEO:39.710774;-75.561174
X-APPLE-STRUCTURED-LOCATION;VALUE=URI;X-ADDRESS=4008 N. DuPont Highway\, Ne
 w Castle\, DE\, 19720\, United States;X-APPLE-RADIUS=100;X-TITLE=Chick Fil
  A New Castle:geo:39.710774,-75.561174
END:VEVENT
BEGIN:VTIMEZONE
TZID:America/New_York
X-LIC-LOCATION:America/New_York
BEGIN:STANDARD
DTSTART:20251102T010000
TZOFFSETFROM:-0400
TZOFFSETTO:-0500
TZNAME:EST
END:STANDARD
END:VTIMEZONE
END:VCALENDAR