BEGIN:VCALENDAR
VERSION:2.0
PRODID:-//wp-events-plugin.com//7.2.3.1//EN
TZID:America/New_York
X-WR-TIMEZONE:America/New_York
BEGIN:VEVENT
UID:538@pbslds.org
DTSTART;TZID=America/New_York:20230324T170000
DTEND;TZID=America/New_York:20230324T220000
DTSTAMP:20230316T004343Z
URL:https://pbslds.org/events/chapter-anniversary-celebration-sweet-16-wat
 ch-party/
SUMMARY:Chapter Anniversary Celebration/Sweet 16 Watch Party
DESCRIPTION:
CATEGORIES:LDS Events,SCF Events
LOCATION:Greene Turtle Christiana\, 425 Stanton Christiana Road\, Christian
 a\, DE\, 19713\, United States
X-APPLE-STRUCTURED-LOCATION;VALUE=URI;X-ADDRESS=425 Stanton Christiana Road
 \, Christiana\, DE\, 19713\, United States;X-APPLE-RADIUS=100;X-TITLE=Gree
 ne Turtle Christiana:geo:0,0
END:VEVENT
BEGIN:VTIMEZONE
TZID:America/New_York
X-LIC-LOCATION:America/New_York
BEGIN:DAYLIGHT
DTSTART:20230312T030000
TZOFFSETFROM:-0500
TZOFFSETTO:-0400
TZNAME:EDT
END:DAYLIGHT
END:VTIMEZONE
END:VCALENDAR