BEGIN:VCALENDAR
VERSION:2.0
PRODID:-//wp-events-plugin.com//7.2.3.1//EN
TZID:America/New_York
X-WR-TIMEZONE:America/New_York
BEGIN:VEVENT
UID:494@pbslds.org
DTSTART;TZID=America/New_York:20221008T090000
DTEND;TZID=America/New_York:20221008T130000
DTSTAMP:20221003T143355Z
URL:https://pbslds.org/events/chaka-williams-homegoing-service/
SUMMARY:Chaka Williams Celebration of Life
DESCRIPTION:\n\nPlease see flyer for pertinent information\n\nOmega Ceremon
 y (10:20 AM)\n\nMore info: Check Chapter Correspondence or email vicepresi
 dent@
CATEGORIES:Delaware Events
LOCATION:Canaan Baptist Church\, 3011 New Castle Ave\, New Castle\, DE\, 19
 720\, United States
X-APPLE-STRUCTURED-LOCATION;VALUE=URI;X-ADDRESS=3011 New Castle Ave\, New C
 astle\, DE\, 19720\, United States;X-APPLE-RADIUS=100;X-TITLE=Canaan Bapti
 st Church:geo:0,0
END:VEVENT
BEGIN:VTIMEZONE
TZID:America/New_York
X-LIC-LOCATION:America/New_York
BEGIN:DAYLIGHT
DTSTART:20220313T030000
TZOFFSETFROM:-0500
TZOFFSETTO:-0400
TZNAME:EDT
END:DAYLIGHT
END:VTIMEZONE
END:VCALENDAR