BEGIN:VCALENDAR
VERSION:2.0
PRODID:-//wp-events-plugin.com//7.2.3.1//EN
TZID:America/New_York
X-WR-TIMEZONE:America/New_York
BEGIN:VEVENT
UID:611@pbslds.org
DTSTART;TZID=America/New_York:20230916T120000
DTEND;TZID=America/New_York:20230916T170000
DTSTAMP:20230827T000217Z
URL:https://pbslds.org/events/central-delaware-nphc-bbq-cook-off/
SUMMARY:Central Delaware NPHC BBQ Cook-Off
DESCRIPTION:
CATEGORIES:Delaware Events,NPHC Events
LOCATION:Williams Park/Safehaven Park\, Nimitz Road\, Dover\, DE\, 19901\, 
 United States
X-APPLE-STRUCTURED-LOCATION;VALUE=URI;X-ADDRESS=Nimitz Road\, Dover\, DE\, 
 19901\, United States;X-APPLE-RADIUS=100;X-TITLE=Williams Park/Safehaven P
 ark:geo:0,0
END:VEVENT
BEGIN:VTIMEZONE
TZID:America/New_York
X-LIC-LOCATION:America/New_York
BEGIN:DAYLIGHT
DTSTART:20230312T030000
TZOFFSETFROM:-0500
TZOFFSETTO:-0400
TZNAME:EDT
END:DAYLIGHT
END:VTIMEZONE
END:VCALENDAR