BEGIN:VCALENDAR
VERSION:2.0
PRODID:-//wp-events-plugin.com//7.2.3.1//EN
TZID:America/New_York
X-WR-TIMEZONE:America/New_York
BEGIN:VEVENT
UID:814@pbslds.org
DTSTART;TZID=America/New_York:20251120T173000
DTEND;TZID=America/New_York:20251120T200000
DTSTAMP:20251107T183358Z
URL:https://pbslds.org/events/capital-connections-networking-event/
SUMMARY:Capital Connections Networking Event
DESCRIPTION:Registration Link \n\n https://lp.constantcontactpages.com/ev/
 reg/7vx3bkq/lp/ce03ab62-8986-4ffe-a625-75a8da1e33 \n
CATEGORIES:LDS Events
LOCATION:Efficient Frontier Group and Event Space\, 4353 Summit Bridge Road
 \, Middletown\, DE\, 19709\, United States
GEO:39.518513;-75.713684
X-APPLE-STRUCTURED-LOCATION;VALUE=URI;X-ADDRESS=4353 Summit Bridge Road\, M
 iddletown\, DE\, 19709\, United States;X-APPLE-RADIUS=100;X-TITLE=Efficien
 t Frontier Group and Event Space:geo:39.518513,-75.713684
END:VEVENT
BEGIN:VTIMEZONE
TZID:America/New_York
X-LIC-LOCATION:America/New_York
BEGIN:STANDARD
DTSTART:20251102T010000
TZOFFSETFROM:-0400
TZOFFSETTO:-0500
TZNAME:EST
END:STANDARD
END:VTIMEZONE
END:VCALENDAR