BEGIN:VCALENDAR
VERSION:2.0
PRODID:-//wp-events-plugin.com//7.2.3.1//EN
TZID:America/New_York
X-WR-TIMEZONE:America/New_York
BEGIN:VEVENT
UID:685@pbslds.org
DTSTART;TZID=America/New_York:20240127T130000
DTEND;TZID=America/New_York:20240127T150000
DTSTAMP:20240125T231811Z
URL:https://pbslds.org/events/campaign-kickoff-bro-terrell-williams/
SUMMARY:Campaign Kickoff (Bro. Terrell Williams)
DESCRIPTION:Join us as we support one of our own!\n\n
CATEGORIES:Delaware Events
LOCATION:Mulligans\, 631 Bayview Rd\, Middletown\, DE\, 19709\, United Stat
 es
GEO:39.493859;-75.645562
X-APPLE-STRUCTURED-LOCATION;VALUE=URI;X-ADDRESS=631 Bayview Rd\, Middletown
 \, DE\, 19709\, United States;X-APPLE-RADIUS=100;X-TITLE=Mulligans:geo:39.
 493859,-75.645562
END:VEVENT
BEGIN:VTIMEZONE
TZID:America/New_York
X-LIC-LOCATION:America/New_York
BEGIN:STANDARD
DTSTART:20231105T010000
TZOFFSETFROM:-0400
TZOFFSETTO:-0500
TZNAME:EST
END:STANDARD
END:VTIMEZONE
END:VCALENDAR