BEGIN:VCALENDAR
VERSION:2.0
PRODID:-//wp-events-plugin.com//7.2.3.1//EN
TZID:America/New_York
X-WR-TIMEZONE:America/New_York
BEGIN:VEVENT
UID:184@pbslds.org
DTSTART;TZID=America/New_York:20160820T140000
DTEND;TZID=America/New_York:20160820T180000
DTSTAMP:20160815T050653Z
URL:https://pbslds.org/events/bwtristatedayparty2016/
SUMMARY:Blue & White Tri-State Day Party
DESCRIPTION:$25 in advance. More at the door.
CATEGORIES:Events
LOCATION:Pagano's Market and Bar\, 2 Commerce Square 2001 Market Street\, P
 hiladelphia\, PA\, 19103\, United States
GEO:39.9541627;-75.17373129999999
X-APPLE-STRUCTURED-LOCATION;VALUE=URI;X-ADDRESS=2 Commerce Square 2001 Mark
 et Street\, Philadelphia\, PA\, 19103\, United States;X-APPLE-RADIUS=100;X
 -TITLE=Pagano's Market and Bar:geo:39.9541627,-75.17373129999999
END:VEVENT
BEGIN:VTIMEZONE
TZID:America/New_York
X-LIC-LOCATION:America/New_York
BEGIN:DAYLIGHT
DTSTART:20160313T030000
TZOFFSETFROM:-0500
TZOFFSETTO:-0400
TZNAME:EDT
END:DAYLIGHT
END:VTIMEZONE
END:VCALENDAR