BEGIN:VCALENDAR
VERSION:2.0
PRODID:-//wp-events-plugin.com//7.2.3.1//EN
TZID:America/New_York
X-WR-TIMEZONE:America/New_York
BEGIN:VEVENT
UID:493@pbslds.org
DTSTART;TZID=America/New_York:20220910T100000
DTEND;TZID=America/New_York:20220910T120000
DTSTAMP:20220909T220228Z
URL:https://pbslds.org/events/brother-williams-lit-drop/
SUMMARY:Brother Williams Lit Drop
DESCRIPTION:10a-12p\n\nShannon Cove Community\n\n52 Shannon Blvd\, Middleto
 wn\n\nWater and Light Refreshments Provided
CATEGORIES:Delaware Events
LOCATION:Shannon Cove Community\, 52 Shannon Blvd\, Middletown\, DE\, 19709
 \, United States
X-APPLE-STRUCTURED-LOCATION;VALUE=URI;X-ADDRESS=52 Shannon Blvd\, Middletow
 n\, DE\, 19709\, United States;X-APPLE-RADIUS=100;X-TITLE=Shannon Cove Com
 munity:geo:0,0
END:VEVENT
BEGIN:VTIMEZONE
TZID:America/New_York
X-LIC-LOCATION:America/New_York
BEGIN:DAYLIGHT
DTSTART:20220313T030000
TZOFFSETFROM:-0500
TZOFFSETTO:-0400
TZNAME:EDT
END:DAYLIGHT
END:VTIMEZONE
END:VCALENDAR