BEGIN:VCALENDAR
VERSION:2.0
PRODID:-//wp-events-plugin.com//7.2.3.1//EN
TZID:America/New_York
X-WR-TIMEZONE:America/New_York
BEGIN:VEVENT
UID:490@pbslds.org
DTSTART;TZID=America/New_York;VALUE=DATE:20220924
DTEND;TZID=America/New_York;VALUE=DATE:20220925
DTSTAMP:20220909T013716Z
URL:https://pbslds.org/events/brother-terrell-williams-campaign-event/
SUMMARY:Brother Terrell Williams Campaign Event
DESCRIPTION:Hold--Info in GroupMe
CATEGORIES:Delaware Events
END:VEVENT
BEGIN:VTIMEZONE
TZID:America/New_York
X-LIC-LOCATION:America/New_York
BEGIN:DAYLIGHT
DTSTART:20220313T030000
TZOFFSETFROM:-0500
TZOFFSETTO:-0400
TZNAME:EDT
END:DAYLIGHT
END:VTIMEZONE
END:VCALENDAR