BEGIN:VCALENDAR
VERSION:2.0
PRODID:-//wp-events-plugin.com//7.2.3.1//EN
TZID:America/New_York
X-WR-TIMEZONE:America/New_York
BEGIN:VEVENT
UID:506@pbslds.org
DTSTART;TZID=America/New_York:20230122T170000
DTEND;TZID=America/New_York:20230122T200000
DTSTAMP:20221228T001032Z
URL:https://pbslds.org/events/blue-white-ole-skool-skate-party/
SUMMARY:Blue & White Ole Skool Skate Party
DESCRIPTION:Click the flyer to purchase tickets\n
CATEGORIES:EPZ Events,LDS Events
LOCATION:Christiana Skate Center\, 801 Christiana Rd\, Newark\, DE\, United
  States
X-APPLE-STRUCTURED-LOCATION;VALUE=URI;X-ADDRESS=801 Christiana Rd\, Newark\
 , DE\, United States;X-APPLE-RADIUS=100;X-TITLE=Christiana Skate Center:ge
 o:0,0
END:VEVENT
BEGIN:VTIMEZONE
TZID:America/New_York
X-LIC-LOCATION:America/New_York
BEGIN:STANDARD
DTSTART:20221106T010000
TZOFFSETFROM:-0400
TZOFFSETTO:-0500
TZNAME:EST
END:STANDARD
END:VTIMEZONE
END:VCALENDAR