BEGIN:VCALENDAR
VERSION:2.0
PRODID:-//wp-events-plugin.com//7.2.3.1//EN
TZID:America/New_York
X-WR-TIMEZONE:America/New_York
BEGIN:VEVENT
UID:472@pbslds.org
DTSTART;TZID=America/New_York;VALUE=DATE:20220730
DTEND;TZID=America/New_York;VALUE=DATE:20220731
DTSTAMP:20220627T235602Z
URL:https://pbslds.org/events/blue-white-bbq-4/
SUMMARY:Blue & White BBQ
DESCRIPTION:Click to RSVP (Blue and White Family Only)\n\n
CATEGORIES:Delaware Events,EPZ Events,GAPZ Events,LDS Events
LOCATION:Weiss Park\, 164 Aspen Drive\, Newark\, DE\, United States
GEO:39.6433026;-75.69129029999999
X-APPLE-STRUCTURED-LOCATION;VALUE=URI;X-ADDRESS=164 Aspen Drive\, Newark\, 
 DE\, United States;X-APPLE-RADIUS=100;X-TITLE=Weiss Park:geo:39.6433026,-7
 5.69129029999999
END:VEVENT
BEGIN:VTIMEZONE
TZID:America/New_York
X-LIC-LOCATION:America/New_York
BEGIN:DAYLIGHT
DTSTART:20220313T030000
TZOFFSETFROM:-0500
TZOFFSETTO:-0400
TZNAME:EDT
END:DAYLIGHT
END:VTIMEZONE
END:VCALENDAR