BEGIN:VCALENDAR
VERSION:2.0
PRODID:-//wp-events-plugin.com//7.2.3.1//EN
TZID:America/New_York
X-WR-TIMEZONE:America/New_York
BEGIN:VEVENT
UID:508@pbslds.org
DTSTART;TZID=America/New_York:20221214T160000
DTEND;TZID=America/New_York:20221214T190000
DTSTAMP:20221210T220857Z
URL:https://pbslds.org/events/blue-and-white-night-happy-hour/
SUMMARY:"Blue and White Night:" Happy Hour
DESCRIPTION:
CATEGORIES:Delaware Events,LDS Events
LOCATION:Chuck Lager "America's Tavern"\,  4500 Linden Hill Rd\, Wilmington
 \, 19808\, United States
X-APPLE-STRUCTURED-LOCATION;VALUE=URI;X-ADDRESS= 4500 Linden Hill Rd\, Wilm
 ington\, 19808\, United States;X-APPLE-RADIUS=100;X-TITLE=Chuck Lager \"Am
 erica's Tavern\":geo:0,0
END:VEVENT
BEGIN:VTIMEZONE
TZID:America/New_York
X-LIC-LOCATION:America/New_York
BEGIN:STANDARD
DTSTART:20221106T010000
TZOFFSETFROM:-0400
TZOFFSETTO:-0500
TZNAME:EST
END:STANDARD
END:VTIMEZONE
END:VCALENDAR