BEGIN:VCALENDAR
VERSION:2.0
PRODID:-//wp-events-plugin.com//7.2.3.1//EN
TZID:America/New_York
X-WR-TIMEZONE:America/New_York
BEGIN:VEVENT
UID:510@pbslds.org
DTSTART;TZID=America/New_York:20221228T170000
DTEND;TZID=America/New_York:20221228T210000
DTSTAMP:20221228T000737Z
URL:https://pbslds.org/events/blue-and-white-family-holiday-party-tentativ
 e/
SUMMARY:Blue and White Family Holiday Party
DESCRIPTION:\n20% of all Food Purchases supports the Foundation if you show
  the flyer to your server (Click here for the Flyer)
CATEGORIES:Delaware Events,EPZ Events,GAPZ Events,LDS Events
LOCATION:Grain H2O\, 3006 Summit Harbour Place\, Bear\, DE\, 19701\, United
  States
X-APPLE-STRUCTURED-LOCATION;VALUE=URI;X-ADDRESS=3006 Summit Harbour Place\,
  Bear\, DE\, 19701\, United States;X-APPLE-RADIUS=100;X-TITLE=Grain H2O:ge
 o:0,0
END:VEVENT
BEGIN:VTIMEZONE
TZID:America/New_York
X-LIC-LOCATION:America/New_York
BEGIN:STANDARD
DTSTART:20221106T010000
TZOFFSETFROM:-0400
TZOFFSETTO:-0500
TZNAME:EST
END:STANDARD
END:VTIMEZONE
END:VCALENDAR