BEGIN:VCALENDAR
VERSION:2.0
PRODID:-//wp-events-plugin.com//7.2.3.1//EN
TZID:America/New_York
X-WR-TIMEZONE:America/New_York
BEGIN:VEVENT
UID:671@pbslds.org
DTSTART;TZID=America/New_York:20240629T120000
DTEND;TZID=America/New_York:20240629T180000
DTSTAMP:20240520T142644Z
URL:https://pbslds.org/events/blue-and-white-bbq-2024/
SUMMARY:Blue and White BBQ 2024
DESCRIPTION:
CATEGORIES:EPZ Events,GAPZ Events,LDS Events,Visiting Sigma Chapter
 Events,Visiting Zeta Chapter Events
LOCATION:Glasgow Park\, Glasgow Park\, Newark\, DE\, 19702\, United States
GEO:39.6116916;-75.72988049999998
X-APPLE-STRUCTURED-LOCATION;VALUE=URI;X-ADDRESS=Glasgow Park\, Newark\, DE\
 , 19702\, United States;X-APPLE-RADIUS=100;X-TITLE=Glasgow Park:geo:39.611
 6916,-75.72988049999998
END:VEVENT
BEGIN:VTIMEZONE
TZID:America/New_York
X-LIC-LOCATION:America/New_York
BEGIN:DAYLIGHT
DTSTART:20240310T030000
TZOFFSETFROM:-0500
TZOFFSETTO:-0400
TZNAME:EDT
END:DAYLIGHT
END:VTIMEZONE
END:VCALENDAR