BEGIN:VCALENDAR
VERSION:2.0
PRODID:-//wp-events-plugin.com//7.2.3.1//EN
TZID:America/New_York
X-WR-TIMEZONE:America/New_York
BEGIN:VEVENT
UID:537@pbslds.org
DTSTART;TZID=America/New_York:20230320T133000
DTEND;TZID=America/New_York:20230320T160000
DTSTAMP:20230313T143315Z
URL:https://pbslds.org/events/blue-and-white-advocacy-day/
SUMMARY:Blue and White Advocacy Day
DESCRIPTION:BROTHERS: PLEASE ARRIVE ON TIME.\nREQUESTED ATTIRE: BLUE BLAZER
  UNIFORM--(ALTERNATE: SIGMA BUSINESS)\nCLICK HERE TO VIEW THE PRESS RELEAS
 E FOR THIS EVENT.
CATEGORIES:Delaware Events
LOCATION:Delaware Legislative Hall\, 411 Legislative Ave\, Dover\, DE\, 199
 01\, United States
X-APPLE-STRUCTURED-LOCATION;VALUE=URI;X-ADDRESS=411 Legislative Ave\, Dover
 \, DE\, 19901\, United States;X-APPLE-RADIUS=100;X-TITLE=Delaware Legislat
 ive Hall:geo:0,0
END:VEVENT
BEGIN:VTIMEZONE
TZID:America/New_York
X-LIC-LOCATION:America/New_York
BEGIN:DAYLIGHT
DTSTART:20230312T030000
TZOFFSETFROM:-0500
TZOFFSETTO:-0400
TZNAME:EDT
END:DAYLIGHT
END:VTIMEZONE
END:VCALENDAR