BEGIN:VCALENDAR
VERSION:2.0
PRODID:-//wp-events-plugin.com//7.2.3.1//EN
TZID:America/New_York
X-WR-TIMEZONE:America/New_York
BEGIN:VEVENT
UID:70@pbslds.org
DTSTART;TZID=America/New_York;VALUE=DATE:20200112
DTEND;TZID=America/New_York;VALUE=DATE:20200113
DTSTAMP:20160119T012556Z
URL:https://pbslds.org/events/birthday-of-honorable-founding-father-leonar
 d-f-morse-2020-01-12/
SUMMARY:Birthday of Honorable Founding Father Leonard F. Morse
DESCRIPTION:
CATEGORIES:PBS Honorable Founding Fathers Birthday
END:VEVENT
BEGIN:VTIMEZONE
TZID:America/New_York
X-LIC-LOCATION:America/New_York
BEGIN:STANDARD
DTSTART:20191103T010000
TZOFFSETFROM:-0400
TZOFFSETTO:-0500
TZNAME:EST
END:STANDARD
END:VTIMEZONE
END:VCALENDAR