BEGIN:VCALENDAR
VERSION:2.0
PRODID:-//wp-events-plugin.com//7.2.3.1//EN
TZID:America/New_York
X-WR-TIMEZONE:America/New_York
BEGIN:VEVENT
UID:470@pbslds.org
DTSTART;TZID=America/New_York;VALUE=DATE:20220902
DTEND;TZID=America/New_York;VALUE=DATE:20220904
DTSTAMP:20220614T182252Z
URL:https://pbslds.org/events/beta-gamma-hampton-university-75th-anniversa
 ry-celebration/
SUMMARY:Beta Gamma (Hampton University) 75th Anniversary Celebration
DESCRIPTION:
LOCATION:Hampton University\, 100 East Queen Street\, Hampton\, VA\, 23669\
 , United States
X-APPLE-STRUCTURED-LOCATION;VALUE=URI;X-ADDRESS=100 East Queen Street\, Ham
 pton\, VA\, 23669\, United States;X-APPLE-RADIUS=100;X-TITLE=Hampton Unive
 rsity:geo:0,0
END:VEVENT
BEGIN:VTIMEZONE
TZID:America/New_York
X-LIC-LOCATION:America/New_York
BEGIN:DAYLIGHT
DTSTART:20220313T030000
TZOFFSETFROM:-0500
TZOFFSETTO:-0400
TZNAME:EDT
END:DAYLIGHT
END:VTIMEZONE
END:VCALENDAR