BEGIN:VCALENDAR
VERSION:2.0
PRODID:-//wp-events-plugin.com//7.2.3.1//EN
TZID:America/New_York
X-WR-TIMEZONE:America/New_York
BEGIN:VEVENT
UID:566@pbslds.org
DTSTART;TZID=America/New_York:20230610T120000
DTEND;TZID=America/New_York:20230610T170000
DTSTAMP:20230530T182045Z
URL:https://pbslds.org/events/bbq-smoke-out-zeta-rho-sigma-chapter-nj/
SUMMARY:BBQ Smoke Out (Zeta Rho Sigma Chapter - NJ)
DESCRIPTION:Click the image for more info on how to pre-order or donate to 
 this effort!\n\n
CATEGORIES:Visiting Sigma Chapter Events
LOCATION:Hiram Masonic Lodge\, 143 Warwick Road\, Lawnside\, NJ\, 08045\, U
 nited States
X-APPLE-STRUCTURED-LOCATION;VALUE=URI;X-ADDRESS=143 Warwick Road\, Lawnside
 \, NJ\, 08045\, United States;X-APPLE-RADIUS=100;X-TITLE=Hiram Masonic Lod
 ge:geo:0,0
END:VEVENT
BEGIN:VTIMEZONE
TZID:America/New_York
X-LIC-LOCATION:America/New_York
BEGIN:DAYLIGHT
DTSTART:20230312T030000
TZOFFSETFROM:-0500
TZOFFSETTO:-0400
TZNAME:EDT
END:DAYLIGHT
END:VTIMEZONE
END:VCALENDAR