BEGIN:VCALENDAR
VERSION:2.0
PRODID:-//wp-events-plugin.com//7.2.3.1//EN
TZID:America/New_York
X-WR-TIMEZONE:America/New_York
BEGIN:VEVENT
UID:609@pbslds.org
DTSTART;TZID=America/New_York:20230823T170000
DTEND;TZID=America/New_York:20230823T200000
DTSTAMP:20230819T232744Z
URL:https://pbslds.org/events/back-to-school-pop-up-with-cuts-and-curls/
SUMMARY:Back to School Pop-Up with "Cuts and Curls"
DESCRIPTION:Don't forget to share!\n\nRegistration at sigmacaresfoundation.
 org
CATEGORIES:LDS Events,SCF Events
LOCATION:Sunset Station Shopping Center\, 1857 Pulaski Highway\, Bear\, DE\
 , United States
X-APPLE-STRUCTURED-LOCATION;VALUE=URI;X-ADDRESS=1857 Pulaski Highway\, Bear
 \, DE\, United States;X-APPLE-RADIUS=100;X-TITLE=Sunset Station Shopping C
 enter:geo:0,0
END:VEVENT
BEGIN:VTIMEZONE
TZID:America/New_York
X-LIC-LOCATION:America/New_York
BEGIN:DAYLIGHT
DTSTART:20230312T030000
TZOFFSETFROM:-0500
TZOFFSETTO:-0400
TZNAME:EDT
END:DAYLIGHT
END:VTIMEZONE
END:VCALENDAR