BEGIN:VCALENDAR
VERSION:2.0
PRODID:-//wp-events-plugin.com//7.2.3.1//EN
TZID:America/New_York
X-WR-TIMEZONE:America/New_York
BEGIN:VEVENT
UID:485@pbslds.org
DTSTART;TZID=America/New_York:20220825T170000
DTEND;TZID=America/New_York:20220825T200000
DTSTAMP:20220821T174521Z
URL:https://pbslds.org/events/back-to-school-give-back-with-scf/
SUMMARY:Back To School "Give Back" with SCF
DESCRIPTION:
CATEGORIES:LDS Events,SCF Events
LOCATION:Cool J's Premium Water Ice\, 1857 Pulaski Highway\, Bear\, DE\, 19
 701\, United States
X-APPLE-STRUCTURED-LOCATION;VALUE=URI;X-ADDRESS=1857 Pulaski Highway\, Bear
 \, DE\, 19701\, United States;X-APPLE-RADIUS=100;X-TITLE=Cool J's Premium 
 Water Ice:geo:0,0
END:VEVENT
BEGIN:VTIMEZONE
TZID:America/New_York
X-LIC-LOCATION:America/New_York
BEGIN:DAYLIGHT
DTSTART:20220313T030000
TZOFFSETFROM:-0500
TZOFFSETTO:-0400
TZNAME:EDT
END:DAYLIGHT
END:VTIMEZONE
END:VCALENDAR