BEGIN:VCALENDAR
VERSION:2.0
PRODID:-//wp-events-plugin.com//7.2.3.1//EN
TZID:America/New_York
X-WR-TIMEZONE:America/New_York
BEGIN:VEVENT
UID:180@pbslds.org
DTSTART;TZID=America/New_York:20160625T093000
DTEND;TZID=America/New_York:20160625T093000
DTSTAMP:20160623T174643Z
URL:https://pbslds.org/events/annual-greek-flag-football-tournament/
SUMMARY:Annual Greek Flag Football Tournament
DESCRIPTION:RAIN DATE\nJUNE 25TH\n
CATEGORIES:NPHC Events
LOCATION:Lums Pond State Park Football Field\, 1068 Howell School Road\, Be
 ar\, DE\, 19701\, United States
GEO:39.5654439;-75.720981
X-APPLE-STRUCTURED-LOCATION;VALUE=URI;X-ADDRESS=1068 Howell School Road\, B
 ear\, DE\, 19701\, United States;X-APPLE-RADIUS=100;X-TITLE=Lums Pond Stat
 e Park Football Field:geo:39.5654439,-75.720981
END:VEVENT
BEGIN:VTIMEZONE
TZID:America/New_York
X-LIC-LOCATION:America/New_York
BEGIN:DAYLIGHT
DTSTART:20160313T030000
TZOFFSETFROM:-0500
TZOFFSETTO:-0400
TZNAME:EDT
END:DAYLIGHT
END:VTIMEZONE
END:VCALENDAR