BEGIN:VCALENDAR
VERSION:2.0
PRODID:-//wp-events-plugin.com//7.2.3.1//EN
TZID:America/New_York
X-WR-TIMEZONE:America/New_York
BEGIN:VEVENT
UID:630@pbslds.org
DTSTART;TZID=America/New_York:20231119T110000
DTEND;TZID=America/New_York:20231119T130000
DTSTAMP:20231113T164501Z
URL:https://pbslds.org/events/alpha-worship-center-109th-anniversary-bro-b
 ishop-hezekiah-walker/
SUMMARY:Alpha Worship Center 109th Anniversary (Bro. Bishop Hezekiah Walker
 )
DESCRIPTION:\n\nAttire: Sigma polos\, black pants\, casual shoes/sneakers (
 this is their "dress-down" Sunday)\n\nPlease plan to arrive by 10:15 so th
 at we may sit together in the section reserved for our Chapter.
CATEGORIES:Delaware Events,LDS Events
LOCATION:Alpha Worship Center\, 908 Janice Drive\, Newark\, DE\, 19713\, Un
 ited States
X-APPLE-STRUCTURED-LOCATION;VALUE=URI;X-ADDRESS=908 Janice Drive\, Newark\,
  DE\, 19713\, United States;X-APPLE-RADIUS=100;X-TITLE=Alpha Worship Cente
 r:geo:0,0
END:VEVENT
BEGIN:VTIMEZONE
TZID:America/New_York
X-LIC-LOCATION:America/New_York
BEGIN:STANDARD
DTSTART:20231105T010000
TZOFFSETFROM:-0400
TZOFFSETTO:-0500
TZNAME:EST
END:STANDARD
END:VTIMEZONE
END:VCALENDAR