BEGIN:VCALENDAR
VERSION:2.0
PRODID:-//wp-events-plugin.com//7.2.3.1//EN
TZID:America/New_York
X-WR-TIMEZONE:America/New_York
BEGIN:VEVENT
UID:815@pbslds.org
DTSTART;TZID=America/New_York:20251213T133000
DTEND;TZID=America/New_York:20251213T150000
DTSTAMP:20251125T204634Z
URL:https://pbslds.org/events/all-things-purple-domestic-violence-donation
 s/
SUMMARY:All Things Purple Domestic Violence Donations
DESCRIPTION:
CATEGORIES:GAPZ Events,LDS Events
LOCATION:Calibrated Resilience\, 3780 N DuPont Highway Unit F\, Townsend \,
  DE\, 19734\, United States
GEO:39.395112;-75.691597
X-APPLE-STRUCTURED-LOCATION;VALUE=URI;X-ADDRESS=3780 N DuPont Highway Unit 
 F\, Townsend \, DE\, 19734\, United States;X-APPLE-RADIUS=100;X-TITLE=Cali
 brated Resilience:geo:39.395112,-75.691597
END:VEVENT
BEGIN:VTIMEZONE
TZID:America/New_York
X-LIC-LOCATION:America/New_York
BEGIN:STANDARD
DTSTART:20251102T010000
TZOFFSETFROM:-0400
TZOFFSETTO:-0500
TZNAME:EST
END:STANDARD
END:VTIMEZONE
END:VCALENDAR