BEGIN:VCALENDAR
VERSION:2.0
PRODID:-//wp-events-plugin.com//7.2.3.1//EN
TZID:America/New_York
X-WR-TIMEZONE:America/New_York
BEGIN:VEVENT
UID:613@pbslds.org
DTSTART;TZID=America/New_York;VALUE=DATE:20240404
DTEND;TZID=America/New_York;VALUE=DATE:20240408
DTSTAMP:20240318T115217Z
URL:https://pbslds.org/events/2024-eastern-regional-conference/
SUMMARY:2024 Eastern Regional Conference
DESCRIPTION:Thank you to those who registered.
CATEGORIES:PBS Eastern Region Events
LOCATION:TheHotel UMD\, 7777 Baltimore Ave\, College Park\, MD\, 20740\, Un
 ited States
X-APPLE-STRUCTURED-LOCATION;VALUE=URI;X-ADDRESS=7777 Baltimore Ave\, Colleg
 e Park\, MD\, 20740\, United States;X-APPLE-RADIUS=100;X-TITLE=TheHotel UM
 D:geo:0,0
END:VEVENT
BEGIN:VTIMEZONE
TZID:America/New_York
X-LIC-LOCATION:America/New_York
BEGIN:DAYLIGHT
DTSTART:20240310T030000
TZOFFSETFROM:-0500
TZOFFSETTO:-0400
TZNAME:EDT
END:DAYLIGHT
END:VTIMEZONE
END:VCALENDAR