BEGIN:VCALENDAR
VERSION:2.0
PRODID:-//wp-events-plugin.com//7.2.3.1//EN
TZID:America/New_York
X-WR-TIMEZONE:America/New_York
BEGIN:VEVENT
UID:176@pbslds.org
DTSTART;TZID=America/New_York:20160416T180300
DTEND;TZID=America/New_York:20160416T200000
DTSTAMP:20160413T183835Z
URL:https://pbslds.org/events/2016-sigma-beta-club-induction-ceremony/
SUMMARY:Sigma Beta Club Induction Ceremony
DESCRIPTION:Brothers of Lambda Delta Sigma Chapter\, and the public\, are w
 elcome to attend the 1st Induction Ceremony for the Sigma Beta Club of the
  Lambda Delta Sigma Chapter of Phi Beta Sigma Fraternity\, Inc. Brothers\,
  please arrive by 4:00 PM. Guests and Sigma Beta Club members\, please arr
 ive between 5:30 and 5:55 PM.\n\n
CATEGORIES:LDS Events
LOCATION:Kathleen H. Wilbur Elementary School\, 4050 Wrangle Hill Road\, Be
 ar\, DE\, 19701\, United States
GEO:39.5833452;-75.66674080000001
X-APPLE-STRUCTURED-LOCATION;VALUE=URI;X-ADDRESS=4050 Wrangle Hill Road\, Be
 ar\, DE\, 19701\, United States;X-APPLE-RADIUS=100;X-TITLE=Kathleen H. Wil
 bur Elementary School:geo:39.5833452,-75.66674080000001
END:VEVENT
BEGIN:VTIMEZONE
TZID:America/New_York
X-LIC-LOCATION:America/New_York
BEGIN:DAYLIGHT
DTSTART:20160313T030000
TZOFFSETFROM:-0500
TZOFFSETTO:-0400
TZNAME:EDT
END:DAYLIGHT
END:VTIMEZONE
END:VCALENDAR