BEGIN:VCALENDAR
VERSION:2.0
PRODID:-//wp-events-plugin.com//7.2.3.1//EN
TZID:America/New_York
X-WR-TIMEZONE:America/New_York
BEGIN:VEVENT
UID:182@pbslds.org
DTSTART;TZID=America/New_York:20160618T090000
DTEND;TZID=America/New_York:20160618T100000
DTSTAMP:20160519T154737Z
URL:https://pbslds.org/events/2016-scf-community-health-initiative/
SUMMARY:SCF Community Health Initiative
DESCRIPTION:Come out and participate in the Sigma Cares Foundation Communit
 y Health Education Initiative\, in conjunction with the the Lambda Delta S
 igma 12 Month Fitness Challenge.\n\nRegister at:\nhttp://2016-scf-communit
 y-health-initiative.eventbrite.com\n\nLocation: Glasgow Park\, Newark\, DE
 .\nMeeting Place: Meet at the base of "The Hill"\nDate: Saturday\, June 18
 \, 2016\nTime: 9:00 - 10:00 AM\nPlease arrive by 8:30 - 8:45 AM\n\nCost: F
 REE\n\nInitiative to be done by JG Personal Training\n\n
CATEGORIES:SCF Events
LOCATION:Glasgow Park\, Glasgow Park\, Newark\, DE\, 19702\, United States
GEO:39.6116916;-75.72988049999998
X-APPLE-STRUCTURED-LOCATION;VALUE=URI;X-ADDRESS=Glasgow Park\, Newark\, DE\
 , 19702\, United States;X-APPLE-RADIUS=100;X-TITLE=Glasgow Park:geo:39.611
 6916,-75.72988049999998
END:VEVENT
BEGIN:VTIMEZONE
TZID:America/New_York
X-LIC-LOCATION:America/New_York
BEGIN:DAYLIGHT
DTSTART:20160313T030000
TZOFFSETFROM:-0500
TZOFFSETTO:-0400
TZNAME:EDT
END:DAYLIGHT
END:VTIMEZONE
END:VCALENDAR