BEGIN:VCALENDAR
VERSION:2.0
PRODID:-//wp-events-plugin.com//7.2.3.1//EN
TZID:America/New_York
X-WR-TIMEZONE:America/New_York
BEGIN:VEVENT
UID:128@pbslds.org
DTSTART;TZID=America/New_York;VALUE=DATE:20160421
DTEND;TZID=America/New_York;VALUE=DATE:20160425
DTSTAMP:20160119T013841Z
URL:https://pbslds.org/events/2016-eastern-regional-conference/
SUMMARY:2016 Eastern Regional Conference
DESCRIPTION:
CATEGORIES:PBS Eastern Region Events
LOCATION:Boston Sheraton Hotel\, 39 Dalton Street\, Boston\, MA\, 02199 \, 
 United States
GEO:42.3463836;-71.08402289999998
X-APPLE-STRUCTURED-LOCATION;VALUE=URI;X-ADDRESS=39 Dalton Street\, Boston\,
  MA\, 02199 \, United States;X-APPLE-RADIUS=100;X-TITLE=Boston Sheraton Ho
 tel:geo:42.3463836,-71.08402289999998
END:VEVENT
BEGIN:VTIMEZONE
TZID:America/New_York
X-LIC-LOCATION:America/New_York
BEGIN:DAYLIGHT
DTSTART:20160313T030000
TZOFFSETFROM:-0500
TZOFFSETTO:-0400
TZNAME:EDT
END:DAYLIGHT
END:VTIMEZONE
END:VCALENDAR