BEGIN:VCALENDAR
VERSION:2.0
PRODID:-//wp-events-plugin.com//7.2.3.1//EN
TZID:America/New_York
X-WR-TIMEZONE:America/New_York
BEGIN:VEVENT
UID:169@pbslds.org
DTSTART;TZID=America/New_York;VALUE=DATE:20210324
DTEND;TZID=America/New_York;VALUE=DATE:20210325
DTSTAMP:20210324T000715Z
URL:https://pbslds.org/events/%cf%86%ce%b2%cf%83-%e2%80%a2-%ce%bb%ce%b4%cf
 %83-chapter-anniversary-2021-03-24/
SUMMARY:ΛΔΣ Chapter Anniversary
DESCRIPTION:
CATEGORIES:LDS Events
END:VEVENT
BEGIN:VTIMEZONE
TZID:America/New_York
X-LIC-LOCATION:America/New_York
BEGIN:DAYLIGHT
DTSTART:20210314T030000
TZOFFSETFROM:-0500
TZOFFSETTO:-0400
TZNAME:EDT
END:DAYLIGHT
END:VTIMEZONE
END:VCALENDAR